BEGIN:VCALENDAR
VERSION:2.0
PRODID:-//KSI Bogota - ECPv6.15.20//NONSGML v1.0//EN
CALSCALE:GREGORIAN
METHOD:PUBLISH
X-WR-CALNAME:KSI Bogota
X-ORIGINAL-URL:https://ksi-bogota.com
X-WR-CALDESC:Events for KSI Bogota
REFRESH-INTERVAL;VALUE=DURATION:PT1H
X-Robots-Tag:noindex
X-PUBLISHED-TTL:PT1H
BEGIN:VTIMEZONE
TZID:America/Bogota
BEGIN:STANDARD
TZOFFSETFROM:-0500
TZOFFSETTO:-0500
TZNAME:-05
DTSTART:20250101T000000
END:STANDARD
END:VTIMEZONE
BEGIN:VEVENT
DTSTART;VALUE=DATE:20260426
DTEND;VALUE=DATE:20260427
DTSTAMP:20260425T055826
CREATED:20250716T225825Z
LAST-MODIFIED:20260425T103442Z
UID:10001293-1777161600-1777247999@ksi-bogota.com
SUMMARY:Family Day
DESCRIPTION:
URL:https://ksi-bogota.com/event/family-day/
END:VEVENT
BEGIN:VEVENT
DTSTART;VALUE=DATE:20260427
DTEND;VALUE=DATE:20260428
DTSTAMP:20260425T055826
CREATED:20250716T225826Z
LAST-MODIFIED:20260425T103443Z
UID:10001294-1777248000-1777334399@ksi-bogota.com
SUMMARY:No School
DESCRIPTION:
URL:https://ksi-bogota.com/event/no-school-2/
END:VEVENT
BEGIN:VEVENT
DTSTART;VALUE=DATE:20260428
DTEND;VALUE=DATE:20260429
DTSTAMP:20260425T055826
CREATED:20250716T230208Z
LAST-MODIFIED:20260425T103442Z
UID:10001373-1777334400-1777420799@ksi-bogota.com
SUMMARY:Day 6
DESCRIPTION:
URL:https://ksi-bogota.com/event/day-6-100/
END:VEVENT
BEGIN:VEVENT
DTSTART;VALUE=DATE:20260428
DTEND;VALUE=DATE:20260521
DTSTAMP:20260425T055826
CREATED:20250717T132157Z
LAST-MODIFIED:20260425T103443Z
UID:10001377-1777334400-1779321599@ksi-bogota.com
SUMMARY:IBDP Exams
DESCRIPTION:
URL:https://ksi-bogota.com/event/ibdp-exams-10/
END:VEVENT
BEGIN:VEVENT
DTSTART;VALUE=DATE:20260429
DTEND;VALUE=DATE:20260430
DTSTAMP:20260425T055826
CREATED:20250716T230228Z
LAST-MODIFIED:20260425T103443Z
UID:10001375-1777420800-1777507199@ksi-bogota.com
SUMMARY:Day 1
DESCRIPTION:
URL:https://ksi-bogota.com/event/day-1-105/
END:VEVENT
BEGIN:VEVENT
DTSTART;VALUE=DATE:20260430
DTEND;VALUE=DATE:20260501
DTSTAMP:20260425T055826
CREATED:20250716T230229Z
LAST-MODIFIED:20260425T103442Z
UID:10001376-1777507200-1777593599@ksi-bogota.com
SUMMARY:Day 2
DESCRIPTION:
URL:https://ksi-bogota.com/event/day-2-103/
END:VEVENT
END:VCALENDAR