BEGIN:VCALENDAR
VERSION:2.0
PRODID:-//KSI Bogota - ECPv6.15.20//NONSGML v1.0//EN
CALSCALE:GREGORIAN
METHOD:PUBLISH
X-WR-CALNAME:KSI Bogota
X-ORIGINAL-URL:https://ksi-bogota.com
X-WR-CALDESC:Events for KSI Bogota
REFRESH-INTERVAL;VALUE=DURATION:PT1H
X-Robots-Tag:noindex
X-PUBLISHED-TTL:PT1H
BEGIN:VTIMEZONE
TZID:America/Bogota
BEGIN:STANDARD
TZOFFSETFROM:-0500
TZOFFSETTO:-0500
TZNAME:-05
DTSTART:20250101T000000
END:STANDARD
END:VTIMEZONE
BEGIN:VEVENT
DTSTART;VALUE=DATE:20260428
DTEND;VALUE=DATE:20260521
DTSTAMP:20260421T030125
CREATED:20250717T132157Z
LAST-MODIFIED:20260421T075028Z
UID:10001377-1777334400-1779321599@ksi-bogota.com
SUMMARY:IBDP Exams
DESCRIPTION:
URL:https://ksi-bogota.com/event/ibdp-exams-10/
END:VEVENT
BEGIN:VEVENT
DTSTART;VALUE=DATE:20260511
DTEND;VALUE=DATE:20260516
DTSTAMP:20260421T030125
CREATED:20250717T132236Z
LAST-MODIFIED:20260421T075013Z
UID:10001386-1778457600-1778889599@ksi-bogota.com
SUMMARY:Teacher Appreciation Week (With Kids)
DESCRIPTION:
URL:https://ksi-bogota.com/event/teacher-appreciation-week-with-kids/
END:VEVENT
BEGIN:VEVENT
DTSTART;VALUE=DATE:20260515
DTEND;VALUE=DATE:20260516
DTSTAMP:20260421T030125
CREATED:20250717T132239Z
LAST-MODIFIED:20260421T075013Z
UID:10001391-1778803200-1778889599@ksi-bogota.com
SUMMARY:Day 6
DESCRIPTION:
URL:https://ksi-bogota.com/event/day-6-102/
END:VEVENT
END:VCALENDAR